BEGIN:VCALENDAR
VERSION:2.0
PRODID:-//YKSA//Satellite Event Calendar//
X-WR-CALNAME:YKSA Events
X-WR-TIMEZONE:UTC
BEGIN:VEVENT
SUMMARY:SSTV: Sakha Republic Day 2026
DTSTART:20260425T120000Z
DTEND:20260426T120000Z
DTSTAMP:20260424T162751Z
UID:event-17-span-1@qsl.yksa.space
DESCRIPTION:SAKHACUBE-CHOLBON (RS18S)\nSSTV event commemorating Sakha Repu
 blic Day on April 27\, 2026.
URL:http://qsl.yksa.space/events/sstv-sakha-republic-day-2026-17/
END:VEVENT
BEGIN:VEVENT
SUMMARY:SSTV: Sakha Republic Day 2026
DTSTART:20260427T000000Z
DTEND:20260427T235900Z
DTSTAMP:20260424T162751Z
UID:event-17-span-2@qsl.yksa.space
DESCRIPTION:SAKHACUBE-CHOLBON (RS18S)\nSSTV event commemorating Sakha Repu
 blic Day on April 27\, 2026.
URL:http://qsl.yksa.space/events/sstv-sakha-republic-day-2026-17/
END:VEVENT
END:VCALENDAR
