BEGIN:VCALENDAR
VERSION:2.0
PRODID:-//YKSA//Satellite Event Calendar//
X-WR-CALNAME:YKSA Events
X-WR-TIMEZONE:UTC
BEGIN:VEVENT
SUMMARY:SSTV: April Fools 2026
DTSTART:20260401T000000Z
DTEND:20260401T235900Z
DTSTAMP:20260424T163351Z
UID:event-15-span-1@qsl.yksa.space
DESCRIPTION:SAKHACUBE-CHOLBON (RS18S)\nApril Fools 2026 special event.
URL:http://qsl.yksa.space/events/sstv-april-fools-2026-15/
END:VEVENT
END:VCALENDAR
