BEGIN:VCALENDAR
VERSION:2.0
PRODID:-//YKSA//Satellite Event Calendar//
X-WR-CALNAME:YKSA Events
X-WR-TIMEZONE:UTC
BEGIN:VEVENT
SUMMARY:SSTV: International Women's Day 2026
DTSTART:20260307T120000Z
DTEND:20260308T120000Z
DTSTAMP:20260424T163557Z
UID:event-14-span-1@qsl.yksa.space
DESCRIPTION:SAKHACUBE-CHOLBON (RS18S)\nSSTV event commemorating Internatio
 nal Women's Day.
URL:http://qsl.yksa.space/events/sstv-international-womens-day-2026-14/
END:VEVENT
BEGIN:VEVENT
SUMMARY:SSTV: International Women's Day 2026
DTSTART:20260308T235900Z
DTEND:20260309T235900Z
DTSTAMP:20260424T163557Z
UID:event-14-span-2@qsl.yksa.space
DESCRIPTION:SAKHACUBE-CHOLBON (RS18S)\nSSTV event commemorating Internatio
 nal Women's Day.
URL:http://qsl.yksa.space/events/sstv-international-womens-day-2026-14/
END:VEVENT
END:VCALENDAR
