BEGIN:VCALENDAR
VERSION:2.0
PRODID:-//YKSA//Satellite Event Calendar//
X-WR-CALNAME:YKSA Events
X-WR-TIMEZONE:UTC
BEGIN:VEVENT
SUMMARY:SSTV: Sakha Republics Mother Language and Writing Day 2026
DTSTART:20260213T090000Z
DTEND:20260214T090000Z
DTSTAMP:20260424T163726Z
UID:event-13-span-1@qsl.yksa.space
DESCRIPTION:SAKHACUBE-CHOLBON (RS18S)\nSSTV event commemorating Sakha Repu
 blic’s Mother Language and Writing Day.
URL:http://qsl.yksa.space/events/sstv-sakha-republics-mother-language-and-
 writing-day-2026-13/
END:VEVENT
BEGIN:VEVENT
SUMMARY:SSTV: Sakha Republics Mother Language and Writing Day 2026
DTSTART:20260215T090000Z
DTEND:20260216T090000Z
DTSTAMP:20260424T163726Z
UID:event-13-span-2@qsl.yksa.space
DESCRIPTION:SAKHACUBE-CHOLBON (RS18S)\nSSTV event commemorating Sakha Repu
 blic’s Mother Language and Writing Day.
URL:http://qsl.yksa.space/events/sstv-sakha-republics-mother-language-and-
 writing-day-2026-13/
END:VEVENT
END:VCALENDAR
